BEGIN:VCALENDAR
VERSION:2.0
PRODID:-//WordPress//Veranstaltungen//DE
CALSCALE:GREGORIAN
METHOD:PUBLISH
BEGIN:VEVENT
UID:11290@a2-forum.de
DTSTAMP:20260421T114953Z
DTSTART:20260326T180000
DTEND:20260326T200000
SUMMARY:Vortrag: Wie verkaufe ich meine Immobilie erfolgreich?
DESCRIPTION:Patrick Silaff (Immobilien Wertermittler und Geschäftsführer von thater IMMOBILIEN Gütersloh) und Philipp Scharnholz (Immobilienmakler bei thater IMMOBILIEN)\\n\\n
URL:https://a2-forum.de/veranstaltungen/vortrag-in-rheda-wiedenbrueck/
STATUS:CONFIRMED
END:VEVENT
END:VCALENDAR
