BEGIN:VCALENDAR
VERSION:2.0
PRODID:-//WordPress//Veranstaltungen//DE
CALSCALE:GREGORIAN
METHOD:PUBLISH
BEGIN:VEVENT
UID:11302-day1@a2-forum.de
DTSTAMP:20260420T070456Z
DTSTART:20261113T093000
DTEND:20261113T181500
SUMMARY:Aktuelle Entwicklungen im Familienrecht (Hybridfortbildung) - Tag 1
URL:https://a2-forum.de/veranstaltungen/aktuelle-entwicklungen-im-familienrecht-hybridfortbildung-2/
STATUS:CONFIRMED
END:VEVENT
BEGIN:VEVENT
UID:11302-day2@a2-forum.de
DTSTAMP:20260420T070456Z
DTSTART:20261114T083000
DTEND:20261114T171500
SUMMARY:Aktuelle Entwicklungen im Familienrecht (Hybridfortbildung) - Tag 2
URL:https://a2-forum.de/veranstaltungen/aktuelle-entwicklungen-im-familienrecht-hybridfortbildung-2/
STATUS:CONFIRMED
END:VEVENT
END:VCALENDAR
