BEGIN:VCALENDAR
VERSION:2.0
PRODID:-//WordPress//Veranstaltungen//DE
CALSCALE:GREGORIAN
METHOD:PUBLISH
BEGIN:VEVENT
UID:11613@a2-forum.de
DTSTAMP:20260420T070635Z
DTSTART:20260702T090000
DTEND:20260702T110000
SUMMARY:Seminar "Aktuelles Steuerrecht" Landwirtschaft
URL:https://a2-forum.de/veranstaltungen/seminar-aktuelles-steuerrecht-landwirtschaft-2/
STATUS:CONFIRMED
END:VEVENT
END:VCALENDAR
