BEGIN:VCALENDAR
VERSION:2.0
PRODID:-//WordPress//Veranstaltungen//DE
CALSCALE:GREGORIAN
METHOD:PUBLISH
BEGIN:VEVENT
UID:319-day1@a2-forum.de
DTSTAMP:20260421T101544Z
DTSTART:20260321T090000
DTEND:20260321T170000
SUMMARY:Handelsmesse / Hausmesse Lüning - Tag 1
DESCRIPTION:„Handeln mit Leidenschaft“ wird seit 1853 in der Rietberger LÜNING-Gruppe an jedem Tag des Jahres gelebt. Grund genug ein ganzes Jahr und somit auch die alljährliche Hausmesse diesem Motto zu widmen.
URL:https://a2-forum.de/veranstaltungen/handelsmesse-hausmesse-luening
STATUS:CONFIRMED
END:VEVENT
BEGIN:VEVENT
UID:319-day2@a2-forum.de
DTSTAMP:20260421T101544Z
DTSTART:20260322T090000
DTEND:20260322T170000
SUMMARY:Handelsmesse / Hausmesse Lüning - Tag 2
DESCRIPTION:„Handeln mit Leidenschaft“ wird seit 1853 in der Rietberger LÜNING-Gruppe an jedem Tag des Jahres gelebt. Grund genug ein ganzes Jahr und somit auch die alljährliche Hausmesse diesem Motto zu widmen.
URL:https://a2-forum.de/veranstaltungen/handelsmesse-hausmesse-luening
STATUS:CONFIRMED
END:VEVENT
END:VCALENDAR
